BEGIN:VCALENDAR
VERSION:2.0
PRODID: https://jours-feries.retira.eu/
METHOD:PUBLISH
CALSCALE:GREGORIAN
NAME:Jours fériés Espagne 2026
X-WR-CALNAME:Jours fériés Espagne 2026
DESCRIPTION:A service of jours-feries.retira.eu. All data without guarantee! / Alle Angaben ohne Gewähr!
X-WR-CALDESC:A service of jours-feries.retira.eu. All data without guarantee! / Alle Angaben ohne Gewähr!
BEGIN:VEVENT
UID:espagne--2026-1@jours-feries.retira.eu
DTSTAMP:20260101T000000
DTSTART;VALUE=DATE:20260101
SUMMARY:Año Nuevo / Jour de l'An 
DESCRIPTION:jour férié officiel en Espagne | jours-feries.retira.eu. All data without guarantee! / Alle Angaben ohne Gewähr!
STATUS:CONFIRMED
END:VEVENT
BEGIN:VEVENT
UID:espagne--2026-2@jours-feries.retira.eu
DTSTAMP:20260106T000000
DTSTART;VALUE=DATE:20260106
SUMMARY:Epifanía / Reyes Magos 
DESCRIPTION:jour férié officiel en Espagne | jours-feries.retira.eu. All data without guarantee! / Alle Angaben ohne Gewähr!
STATUS:CONFIRMED
END:VEVENT
BEGIN:VEVENT
UID:espagne--2026-3@jours-feries.retira.eu
DTSTAMP:20260228T000000
DTSTART;VALUE=DATE:20260228
SUMMARY:Día de Andalucía 
DESCRIPTION:jour férié régional | jours-feries.retira.eu. All data without guarantee! / Alle Angaben ohne Gewähr!
STATUS:CONFIRMED
END:VEVENT
BEGIN:VEVENT
UID:espagne--2026-4@jours-feries.retira.eu
DTSTAMP:20260301T000000
DTSTART;VALUE=DATE:20260301
SUMMARY:Día de las Illes Balears 
DESCRIPTION:jour férié régional | jours-feries.retira.eu. All data without guarantee! / Alle Angaben ohne Gewähr!
STATUS:CONFIRMED
END:VEVENT
BEGIN:VEVENT
UID:espagne--2026-5@jours-feries.retira.eu
DTSTAMP:20260319T000000
DTSTART;VALUE=DATE:20260319
SUMMARY:San José 
DESCRIPTION:jour férié régional | jours-feries.retira.eu. All data without guarantee! / Alle Angaben ohne Gewähr!
STATUS:CONFIRMED
END:VEVENT
BEGIN:VEVENT
UID:espagne--2026-6@jours-feries.retira.eu
DTSTAMP:20260402T000000
DTSTART;VALUE=DATE:20260402
SUMMARY:Jueves Santo 
DESCRIPTION:jour férié régional | jours-feries.retira.eu. All data without guarantee! / Alle Angaben ohne Gewähr!
STATUS:CONFIRMED
END:VEVENT
BEGIN:VEVENT
UID:espagne--2026-7@jours-feries.retira.eu
DTSTAMP:20260403T000000
DTSTART;VALUE=DATE:20260403
SUMMARY:Viernes Santo 
DESCRIPTION:jour férié officiel en Espagne | jours-feries.retira.eu. All data without guarantee! / Alle Angaben ohne Gewähr!
STATUS:CONFIRMED
END:VEVENT
BEGIN:VEVENT
UID:espagne--2026-9@jours-feries.retira.eu
DTSTAMP:20260406T000000
DTSTART;VALUE=DATE:20260406
SUMMARY:Lunes de Pascua 
DESCRIPTION:jour férié régional | jours-feries.retira.eu. All data without guarantee! / Alle Angaben ohne Gewähr!
STATUS:CONFIRMED
END:VEVENT
BEGIN:VEVENT
UID:espagne--2026-10@jours-feries.retira.eu
DTSTAMP:20260423T000000
DTSTART;VALUE=DATE:20260423
SUMMARY:San Jorge 
DESCRIPTION:jour férié régional | jours-feries.retira.eu. All data without guarantee! / Alle Angaben ohne Gewähr!
STATUS:CONFIRMED
END:VEVENT
BEGIN:VEVENT
UID:espagne--2026-11@jours-feries.retira.eu
DTSTAMP:20260501T000000
DTSTART;VALUE=DATE:20260501
SUMMARY:Día del Trabajo 
DESCRIPTION:jour férié officiel en Espagne | jours-feries.retira.eu. All data without guarantee! / Alle Angaben ohne Gewähr!
STATUS:CONFIRMED
END:VEVENT
BEGIN:VEVENT
UID:espagne--2026-12@jours-feries.retira.eu
DTSTAMP:20260515T000000
DTSTART;VALUE=DATE:20260515
SUMMARY:San Isidro 
DESCRIPTION:jour férié régional | jours-feries.retira.eu. All data without guarantee! / Alle Angaben ohne Gewähr!
STATUS:CONFIRMED
END:VEVENT
BEGIN:VEVENT
UID:espagne--2026-13@jours-feries.retira.eu
DTSTAMP:20260530T000000
DTSTART;VALUE=DATE:20260530
SUMMARY:Día de Canarias 
DESCRIPTION:jour férié régional | jours-feries.retira.eu. All data without guarantee! / Alle Angaben ohne Gewähr!
STATUS:CONFIRMED
END:VEVENT
BEGIN:VEVENT
UID:espagne--2026-14@jours-feries.retira.eu
DTSTAMP:20260604T000000
DTSTART;VALUE=DATE:20260604
SUMMARY:Fiesta del Corpus Christi 
DESCRIPTION:jour férié régional | jours-feries.retira.eu. All data without guarantee! / Alle Angaben ohne Gewähr!
STATUS:CONFIRMED
END:VEVENT
BEGIN:VEVENT
UID:espagne--2026-15@jours-feries.retira.eu
DTSTAMP:20260609T000000
DTSTART;VALUE=DATE:20260609
SUMMARY:Día de la Región de Murcia 
DESCRIPTION:jour férié régional | jours-feries.retira.eu. All data without guarantee! / Alle Angaben ohne Gewähr!
STATUS:CONFIRMED
END:VEVENT
BEGIN:VEVENT
UID:espagne--2026-16@jours-feries.retira.eu
DTSTAMP:20260624T000000
DTSTART;VALUE=DATE:20260624
SUMMARY:San Juan 
DESCRIPTION:jour férié régional | jours-feries.retira.eu. All data without guarantee! / Alle Angaben ohne Gewähr!
STATUS:CONFIRMED
END:VEVENT
BEGIN:VEVENT
UID:espagne--2026-17@jours-feries.retira.eu
DTSTAMP:20260725T000000
DTSTART;VALUE=DATE:20260725
SUMMARY:Santiago Apóstol 
DESCRIPTION:jour férié régional | jours-feries.retira.eu. All data without guarantee! / Alle Angaben ohne Gewähr!
STATUS:CONFIRMED
END:VEVENT
BEGIN:VEVENT
UID:espagne--2026-18@jours-feries.retira.eu
DTSTAMP:20260815T000000
DTSTART;VALUE=DATE:20260815
SUMMARY:Asunción de la Virgen 
DESCRIPTION:jour férié officiel en Espagne | jours-feries.retira.eu. All data without guarantee! / Alle Angaben ohne Gewähr!
STATUS:CONFIRMED
END:VEVENT
BEGIN:VEVENT
UID:espagne--2026-19@jours-feries.retira.eu
DTSTAMP:20260908T000000
DTSTART;VALUE=DATE:20260908
SUMMARY:Día de Asturias 
DESCRIPTION:jour férié régional | jours-feries.retira.eu. All data without guarantee! / Alle Angaben ohne Gewähr!
STATUS:CONFIRMED
END:VEVENT
BEGIN:VEVENT
UID:espagne--2026-20@jours-feries.retira.eu
DTSTAMP:20260911T000000
DTSTART;VALUE=DATE:20260911
SUMMARY:Fiesta Nacional de Cataluña 
DESCRIPTION:jour férié régional | jours-feries.retira.eu. All data without guarantee! / Alle Angaben ohne Gewähr!
STATUS:CONFIRMED
END:VEVENT
BEGIN:VEVENT
UID:espagne--2026-21@jours-feries.retira.eu
DTSTAMP:20261009T000000
DTSTART;VALUE=DATE:20261009
SUMMARY:Día de la Comunidad Valenciana 
DESCRIPTION:jour férié régional | jours-feries.retira.eu. All data without guarantee! / Alle Angaben ohne Gewähr!
STATUS:CONFIRMED
END:VEVENT
BEGIN:VEVENT
UID:espagne--2026-22@jours-feries.retira.eu
DTSTAMP:20261012T000000
DTSTART;VALUE=DATE:20261012
SUMMARY:Fiesta Nacional de España 
DESCRIPTION:jour férié officiel en Espagne | jours-feries.retira.eu. All data without guarantee! / Alle Angaben ohne Gewähr!
STATUS:CONFIRMED
END:VEVENT
BEGIN:VEVENT
UID:espagne--2026-23@jours-feries.retira.eu
DTSTAMP:20261101T000000
DTSTART;VALUE=DATE:20261101
SUMMARY:Fiesta de Todos los Santos 
DESCRIPTION:jour férié officiel en Espagne | jours-feries.retira.eu. All data without guarantee! / Alle Angaben ohne Gewähr!
STATUS:CONFIRMED
END:VEVENT
BEGIN:VEVENT
UID:espagne--2026-24@jours-feries.retira.eu
DTSTAMP:20261102T000000
DTSTART;VALUE=DATE:20261102
SUMMARY:Lunes siguiente a Todos los Santos  
DESCRIPTION:jour férié régional | jours-feries.retira.eu. All data without guarantee! / Alle Angaben ohne Gewähr!
STATUS:CONFIRMED
END:VEVENT
BEGIN:VEVENT
UID:espagne--2026-25@jours-feries.retira.eu
DTSTAMP:20261109T000000
DTSTART;VALUE=DATE:20261109
SUMMARY:Virgen de la Almudena 
DESCRIPTION:jour férié régional | jours-feries.retira.eu. All data without guarantee! / Alle Angaben ohne Gewähr!
STATUS:CONFIRMED
END:VEVENT
BEGIN:VEVENT
UID:espagne--2026-26@jours-feries.retira.eu
DTSTAMP:20261206T000000
DTSTART;VALUE=DATE:20261206
SUMMARY:Día de la Constitución 
DESCRIPTION:jour férié officiel en Espagne | jours-feries.retira.eu. All data without guarantee! / Alle Angaben ohne Gewähr!
STATUS:CONFIRMED
END:VEVENT
BEGIN:VEVENT
UID:espagne--2026-27@jours-feries.retira.eu
DTSTAMP:20261207T000000
DTSTART;VALUE=DATE:20261207
SUMMARY:Lunes siguiente al día de la Constitución 
DESCRIPTION:jour férié régional | jours-feries.retira.eu. All data without guarantee! / Alle Angaben ohne Gewähr!
STATUS:CONFIRMED
END:VEVENT
BEGIN:VEVENT
UID:espagne--2026-28@jours-feries.retira.eu
DTSTAMP:20261208T000000
DTSTART;VALUE=DATE:20261208
SUMMARY:La Inmaculada Concepción 
DESCRIPTION:jour férié officiel en Espagne | jours-feries.retira.eu. All data without guarantee! / Alle Angaben ohne Gewähr!
STATUS:CONFIRMED
END:VEVENT
BEGIN:VEVENT
UID:espagne--2026-29@jours-feries.retira.eu
DTSTAMP:20261225T000000
DTSTART;VALUE=DATE:20261225
SUMMARY:Navidad 
DESCRIPTION:jour férié officiel en Espagne | jours-feries.retira.eu. All data without guarantee! / Alle Angaben ohne Gewähr!
STATUS:CONFIRMED
END:VEVENT
END:VCALENDAR