BEGIN:VCALENDAR
VERSION:2.0
PRODID: https://jours-feries.retira.eu/
METHOD:PUBLISH
CALSCALE:GREGORIAN
NAME:Jours fériés Colombie 2026
X-WR-CALNAME:Jours fériés Colombie 2026
DESCRIPTION:A service of jours-feries.retira.eu. All data without guarantee! / Alle Angaben ohne Gewähr!
X-WR-CALDESC:A service of jours-feries.retira.eu. All data without guarantee! / Alle Angaben ohne Gewähr!
BEGIN:VEVENT
UID:colombie--2026-1@jours-feries.retira.eu
DTSTAMP:20260101T000000
DTSTART;VALUE=DATE:20260101
SUMMARY:Año Nuevo / Jour de l'An 
DESCRIPTION:jour férié officiel en Colombie | jours-feries.retira.eu. All data without guarantee! / Alle Angaben ohne Gewähr!
STATUS:CONFIRMED
END:VEVENT
BEGIN:VEVENT
UID:colombie--2026-2@jours-feries.retira.eu
DTSTAMP:20260112T000000
DTSTART;VALUE=DATE:20260112
SUMMARY:Día de los Reyes Magos 
DESCRIPTION:jour férié officiel en Colombie | jours-feries.retira.eu. All data without guarantee! / Alle Angaben ohne Gewähr!
STATUS:CONFIRMED
END:VEVENT
BEGIN:VEVENT
UID:colombie--2026-3@jours-feries.retira.eu
DTSTAMP:20260323T000000
DTSTART;VALUE=DATE:20260323
SUMMARY:Día de San José 
DESCRIPTION:jour férié officiel en Colombie | jours-feries.retira.eu. All data without guarantee! / Alle Angaben ohne Gewähr!
STATUS:CONFIRMED
END:VEVENT
BEGIN:VEVENT
UID:colombie--2026-4@jours-feries.retira.eu
DTSTAMP:20260402T000000
DTSTART;VALUE=DATE:20260402
SUMMARY:Jueves Santo 
DESCRIPTION:jour férié officiel en Colombie | jours-feries.retira.eu. All data without guarantee! / Alle Angaben ohne Gewähr!
STATUS:CONFIRMED
END:VEVENT
BEGIN:VEVENT
UID:colombie--2026-5@jours-feries.retira.eu
DTSTAMP:20260403T000000
DTSTART;VALUE=DATE:20260403
SUMMARY:Viernes Santo 
DESCRIPTION:jour férié officiel en Colombie | jours-feries.retira.eu. All data without guarantee! / Alle Angaben ohne Gewähr!
STATUS:CONFIRMED
END:VEVENT
BEGIN:VEVENT
UID:colombie--2026-6@jours-feries.retira.eu
DTSTAMP:20260405T000000
DTSTART;VALUE=DATE:20260405
SUMMARY:Domingo de Pascua 
DESCRIPTION:jour férié officiel en Colombie | jours-feries.retira.eu. All data without guarantee! / Alle Angaben ohne Gewähr!
STATUS:CONFIRMED
END:VEVENT
BEGIN:VEVENT
UID:colombie--2026-7@jours-feries.retira.eu
DTSTAMP:20260501T000000
DTSTART;VALUE=DATE:20260501
SUMMARY:Día del Trabajo 
DESCRIPTION:jour férié officiel en Colombie | jours-feries.retira.eu. All data without guarantee! / Alle Angaben ohne Gewähr!
STATUS:CONFIRMED
END:VEVENT
BEGIN:VEVENT
UID:colombie--2026-8@jours-feries.retira.eu
DTSTAMP:20260518T000000
DTSTART;VALUE=DATE:20260518
SUMMARY:La Ascensión del Señor 
DESCRIPTION:jour férié officiel en Colombie | jours-feries.retira.eu. All data without guarantee! / Alle Angaben ohne Gewähr!
STATUS:CONFIRMED
END:VEVENT
BEGIN:VEVENT
UID:colombie--2026-10@jours-feries.retira.eu
DTSTAMP:20260608T000000
DTSTART;VALUE=DATE:20260608
SUMMARY:Corpus Christi 
DESCRIPTION:jour férié officiel en Colombie | jours-feries.retira.eu. All data without guarantee! / Alle Angaben ohne Gewähr!
STATUS:CONFIRMED
END:VEVENT
BEGIN:VEVENT
UID:colombie--2026-11@jours-feries.retira.eu
DTSTAMP:20260615T000000
DTSTART;VALUE=DATE:20260615
SUMMARY:El Sagrado Corazón de Jesús 
DESCRIPTION:jour férié officiel en Colombie | jours-feries.retira.eu. All data without guarantee! / Alle Angaben ohne Gewähr!
STATUS:CONFIRMED
END:VEVENT
BEGIN:VEVENT
UID:colombie--2026-12@jours-feries.retira.eu
DTSTAMP:20260629T000000
DTSTART;VALUE=DATE:20260629
SUMMARY:San Pedro y San Pablo 
DESCRIPTION:jour férié officiel en Colombie | jours-feries.retira.eu. All data without guarantee! / Alle Angaben ohne Gewähr!
STATUS:CONFIRMED
END:VEVENT
BEGIN:VEVENT
UID:colombie--2026-13@jours-feries.retira.eu
DTSTAMP:20260720T000000
DTSTART;VALUE=DATE:20260720
SUMMARY:Grito de Independencia 
DESCRIPTION:jour férié officiel en Colombie | jours-feries.retira.eu. All data without guarantee! / Alle Angaben ohne Gewähr!
STATUS:CONFIRMED
END:VEVENT
BEGIN:VEVENT
UID:colombie--2026-14@jours-feries.retira.eu
DTSTAMP:20260807T000000
DTSTART;VALUE=DATE:20260807
SUMMARY:Batalla de Boyacá 
DESCRIPTION:jour férié officiel en Colombie | jours-feries.retira.eu. All data without guarantee! / Alle Angaben ohne Gewähr!
STATUS:CONFIRMED
END:VEVENT
BEGIN:VEVENT
UID:colombie--2026-15@jours-feries.retira.eu
DTSTAMP:20260817T000000
DTSTART;VALUE=DATE:20260817
SUMMARY:Asunción de la Virgen 
DESCRIPTION:jour férié officiel en Colombie | jours-feries.retira.eu. All data without guarantee! / Alle Angaben ohne Gewähr!
STATUS:CONFIRMED
END:VEVENT
BEGIN:VEVENT
UID:colombie--2026-16@jours-feries.retira.eu
DTSTAMP:20261012T000000
DTSTART;VALUE=DATE:20261012
SUMMARY:Día de la Raza 
DESCRIPTION:jour férié officiel en Colombie | jours-feries.retira.eu. All data without guarantee! / Alle Angaben ohne Gewähr!
STATUS:CONFIRMED
END:VEVENT
BEGIN:VEVENT
UID:colombie--2026-17@jours-feries.retira.eu
DTSTAMP:20261102T000000
DTSTART;VALUE=DATE:20261102
SUMMARY:Todos los Santos 
DESCRIPTION:jour férié officiel en Colombie | jours-feries.retira.eu. All data without guarantee! / Alle Angaben ohne Gewähr!
STATUS:CONFIRMED
END:VEVENT
BEGIN:VEVENT
UID:colombie--2026-18@jours-feries.retira.eu
DTSTAMP:20261116T000000
DTSTART;VALUE=DATE:20261116
SUMMARY:Independencia de Cartagena 
DESCRIPTION:jour férié officiel en Colombie | jours-feries.retira.eu. All data without guarantee! / Alle Angaben ohne Gewähr!
STATUS:CONFIRMED
END:VEVENT
BEGIN:VEVENT
UID:colombie--2026-19@jours-feries.retira.eu
DTSTAMP:20261208T000000
DTSTART;VALUE=DATE:20261208
SUMMARY:Inmaculada Concepción 
DESCRIPTION:jour férié officiel en Colombie | jours-feries.retira.eu. All data without guarantee! / Alle Angaben ohne Gewähr!
STATUS:CONFIRMED
END:VEVENT
BEGIN:VEVENT
UID:colombie--2026-20@jours-feries.retira.eu
DTSTAMP:20261225T000000
DTSTART;VALUE=DATE:20261225
SUMMARY:Navidad 
DESCRIPTION:jour férié officiel en Colombie | jours-feries.retira.eu. All data without guarantee! / Alle Angaben ohne Gewähr!
STATUS:CONFIRMED
END:VEVENT
END:VCALENDAR