BEGIN:VCALENDAR
VERSION:2.0
PRODID: https://jours-feries.retira.eu/
METHOD:PUBLISH
CALSCALE:GREGORIAN
NAME:Jours fériés Brésil 2026
X-WR-CALNAME:Jours fériés Brésil 2026
DESCRIPTION:A service of jours-feries.retira.eu. All data without guarantee! / Alle Angaben ohne Gewähr!
X-WR-CALDESC:A service of jours-feries.retira.eu. All data without guarantee! / Alle Angaben ohne Gewähr!
BEGIN:VEVENT
UID:bresil--2026-1@jours-feries.retira.eu
DTSTAMP:20260101T000000
DTSTART;VALUE=DATE:20260101
SUMMARY:Confraternização Universal / Ano Novo / Jour de l'An 
DESCRIPTION:jour férié officiel au Brésil | jours-feries.retira.eu. All data without guarantee! / Alle Angaben ohne Gewähr!
STATUS:CONFIRMED
END:VEVENT
BEGIN:VEVENT
UID:bresil--2026-2@jours-feries.retira.eu
DTSTAMP:20260216T000000
DTSTART;VALUE=DATE:20260216
SUMMARY:Segunda de Carnaval 
DESCRIPTION:jour férié régional | jours-feries.retira.eu. All data without guarantee! / Alle Angaben ohne Gewähr!
STATUS:CONFIRMED
END:VEVENT
BEGIN:VEVENT
UID:bresil--2026-3@jours-feries.retira.eu
DTSTAMP:20260217T000000
DTSTART;VALUE=DATE:20260217
SUMMARY:Terça de Carnaval 
DESCRIPTION:jour férié régional | jours-feries.retira.eu. All data without guarantee! / Alle Angaben ohne Gewähr!
STATUS:CONFIRMED
END:VEVENT
BEGIN:VEVENT
UID:bresil--2026-4@jours-feries.retira.eu
DTSTAMP:20260218T000000
DTSTART;VALUE=DATE:20260218
SUMMARY:Quarta-feira de Cinzas 
DESCRIPTION:jour férié régional | jours-feries.retira.eu. All data without guarantee! / Alle Angaben ohne Gewähr!
STATUS:CONFIRMED
END:VEVENT
BEGIN:VEVENT
UID:bresil--2026-5@jours-feries.retira.eu
DTSTAMP:20260319T000000
DTSTART;VALUE=DATE:20260319
SUMMARY:São José 
DESCRIPTION:jour férié régional | jours-feries.retira.eu. All data without guarantee! / Alle Angaben ohne Gewähr!
STATUS:CONFIRMED
END:VEVENT
BEGIN:VEVENT
UID:bresil--2026-6@jours-feries.retira.eu
DTSTAMP:20260325T000000
DTSTART;VALUE=DATE:20260325
SUMMARY:Data magna do estado Ceará (CE) 
DESCRIPTION:jour férié régional | jours-feries.retira.eu. All data without guarantee! / Alle Angaben ohne Gewähr!
STATUS:CONFIRMED
END:VEVENT
BEGIN:VEVENT
UID:bresil--2026-7@jours-feries.retira.eu
DTSTAMP:20260403T000000
DTSTART;VALUE=DATE:20260403
SUMMARY:Sexta-Feira Santa 
DESCRIPTION:jour férié régional | jours-feries.retira.eu. All data without guarantee! / Alle Angaben ohne Gewähr!
STATUS:CONFIRMED
END:VEVENT
BEGIN:VEVENT
UID:bresil--2026-8@jours-feries.retira.eu
DTSTAMP:20260405T000000
DTSTART;VALUE=DATE:20260405
SUMMARY:Páscoa 
DESCRIPTION:jour férié officiel au Brésil | jours-feries.retira.eu. All data without guarantee! / Alle Angaben ohne Gewähr!
STATUS:CONFIRMED
END:VEVENT
BEGIN:VEVENT
UID:bresil--2026-9@jours-feries.retira.eu
DTSTAMP:20260421T000000
DTSTART;VALUE=DATE:20260421
SUMMARY:Tiradentes 
DESCRIPTION:jour férié officiel au Brésil | jours-feries.retira.eu. All data without guarantee! / Alle Angaben ohne Gewähr!
STATUS:CONFIRMED
END:VEVENT
BEGIN:VEVENT
UID:bresil--2026-10@jours-feries.retira.eu
DTSTAMP:20260423T000000
DTSTART;VALUE=DATE:20260423
SUMMARY:Dia de São Jorge 
DESCRIPTION:jour férié régional | jours-feries.retira.eu. All data without guarantee! / Alle Angaben ohne Gewähr!
STATUS:CONFIRMED
END:VEVENT
BEGIN:VEVENT
UID:bresil--2026-11@jours-feries.retira.eu
DTSTAMP:20260501T000000
DTSTART;VALUE=DATE:20260501
SUMMARY:Dia do Trabalho 
DESCRIPTION:jour férié officiel au Brésil | jours-feries.retira.eu. All data without guarantee! / Alle Angaben ohne Gewähr!
STATUS:CONFIRMED
END:VEVENT
BEGIN:VEVENT
UID:bresil--2026-13@jours-feries.retira.eu
DTSTAMP:20260604T000000
DTSTART;VALUE=DATE:20260604
SUMMARY:Corpus Christi 
DESCRIPTION:jour férié régional | jours-feries.retira.eu. All data without guarantee! / Alle Angaben ohne Gewähr!
STATUS:CONFIRMED
END:VEVENT
BEGIN:VEVENT
UID:bresil--2026-15@jours-feries.retira.eu
DTSTAMP:20260624T000000
DTSTART;VALUE=DATE:20260624
SUMMARY:São João 
DESCRIPTION:jour férié régional | jours-feries.retira.eu. All data without guarantee! / Alle Angaben ohne Gewähr!
STATUS:CONFIRMED
END:VEVENT
BEGIN:VEVENT
UID:bresil--2026-16@jours-feries.retira.eu
DTSTAMP:20260702T000000
DTSTART;VALUE=DATE:20260702
SUMMARY:Independência da Bahia (BA) 
DESCRIPTION:jour férié régional | jours-feries.retira.eu. All data without guarantee! / Alle Angaben ohne Gewähr!
STATUS:CONFIRMED
END:VEVENT
BEGIN:VEVENT
UID:bresil--2026-17@jours-feries.retira.eu
DTSTAMP:20260709T000000
DTSTART;VALUE=DATE:20260709
SUMMARY:Revolução Constitucionalista de 1932 (SP) 
DESCRIPTION:jour férié régional | jours-feries.retira.eu. All data without guarantee! / Alle Angaben ohne Gewähr!
STATUS:CONFIRMED
END:VEVENT
BEGIN:VEVENT
UID:bresil--2026-18@jours-feries.retira.eu
DTSTAMP:20260815T000000
DTSTART;VALUE=DATE:20260815
SUMMARY:Nossa Senhora da Assunção 
DESCRIPTION:jour férié régional | jours-feries.retira.eu. All data without guarantee! / Alle Angaben ohne Gewähr!
STATUS:CONFIRMED
END:VEVENT
BEGIN:VEVENT
UID:bresil--2026-19@jours-feries.retira.eu
DTSTAMP:20260907T000000
DTSTART;VALUE=DATE:20260907
SUMMARY:Independência do Brasil 
DESCRIPTION:jour férié officiel au Brésil | jours-feries.retira.eu. All data without guarantee! / Alle Angaben ohne Gewähr!
STATUS:CONFIRMED
END:VEVENT
BEGIN:VEVENT
UID:bresil--2026-20@jours-feries.retira.eu
DTSTAMP:20261012T000000
DTSTART;VALUE=DATE:20261012
SUMMARY:Nossa Senhora Aparecida 
DESCRIPTION:jour férié officiel au Brésil | jours-feries.retira.eu. All data without guarantee! / Alle Angaben ohne Gewähr!
STATUS:CONFIRMED
END:VEVENT
BEGIN:VEVENT
UID:bresil--2026-21@jours-feries.retira.eu
DTSTAMP:20261102T000000
DTSTART;VALUE=DATE:20261102
SUMMARY:Finados 
DESCRIPTION:jour férié officiel au Brésil | jours-feries.retira.eu. All data without guarantee! / Alle Angaben ohne Gewähr!
STATUS:CONFIRMED
END:VEVENT
BEGIN:VEVENT
UID:bresil--2026-22@jours-feries.retira.eu
DTSTAMP:20261115T000000
DTSTART;VALUE=DATE:20261115
SUMMARY:Proclamação da República 
DESCRIPTION:jour férié officiel au Brésil | jours-feries.retira.eu. All data without guarantee! / Alle Angaben ohne Gewähr!
STATUS:CONFIRMED
END:VEVENT
BEGIN:VEVENT
UID:bresil--2026-23@jours-feries.retira.eu
DTSTAMP:20261120T000000
DTSTART;VALUE=DATE:20261120
SUMMARY:Dia da Consciência Negra 
DESCRIPTION:jour férié régional | jours-feries.retira.eu. All data without guarantee! / Alle Angaben ohne Gewähr!
STATUS:CONFIRMED
END:VEVENT
BEGIN:VEVENT
UID:bresil--2026-24@jours-feries.retira.eu
DTSTAMP:20261208T000000
DTSTART;VALUE=DATE:20261208
SUMMARY:Nossa Senhora da Conceição 
DESCRIPTION:jour férié régional | jours-feries.retira.eu. All data without guarantee! / Alle Angaben ohne Gewähr!
STATUS:CONFIRMED
END:VEVENT
BEGIN:VEVENT
UID:bresil--2026-25@jours-feries.retira.eu
DTSTAMP:20261225T000000
DTSTART;VALUE=DATE:20261225
SUMMARY:Natal 
DESCRIPTION:jour férié officiel au Brésil | jours-feries.retira.eu. All data without guarantee! / Alle Angaben ohne Gewähr!
STATUS:CONFIRMED
END:VEVENT
END:VCALENDAR