BEGIN:VCALENDAR
VERSION:2.0
PRODID: https://jours-feries.retira.eu/
METHOD:PUBLISH
CALSCALE:GREGORIAN
NAME:Jours fériés Autriche 2026
X-WR-CALNAME:Jours fériés Autriche 2026
DESCRIPTION:A service of jours-feries.retira.eu. All data without guarantee! / Alle Angaben ohne Gewähr!
X-WR-CALDESC:A service of jours-feries.retira.eu. All data without guarantee! / Alle Angaben ohne Gewähr!
BEGIN:VEVENT
UID:autriche--2026-1@jours-feries.retira.eu
DTSTAMP:20260101T000000
DTSTART;VALUE=DATE:20260101
SUMMARY:Neujahr / Jour de l'An 
DESCRIPTION:jour férié officiel en Autriche | jours-feries.retira.eu. All data without guarantee! / Alle Angaben ohne Gewähr!
STATUS:CONFIRMED
END:VEVENT
BEGIN:VEVENT
UID:autriche--2026-2@jours-feries.retira.eu
DTSTAMP:20260106T000000
DTSTART;VALUE=DATE:20260106
SUMMARY:Heilige Drei Könige 
DESCRIPTION:jour férié officiel en Autriche | jours-feries.retira.eu. All data without guarantee! / Alle Angaben ohne Gewähr!
STATUS:CONFIRMED
END:VEVENT
BEGIN:VEVENT
UID:autriche--2026-7@jours-feries.retira.eu
DTSTAMP:20260319T000000
DTSTART;VALUE=DATE:20260319
SUMMARY:Josef 
DESCRIPTION:jour férié régional | jours-feries.retira.eu. All data without guarantee! / Alle Angaben ohne Gewähr!
STATUS:CONFIRMED
END:VEVENT
BEGIN:VEVENT
UID:autriche--2026-14@jours-feries.retira.eu
DTSTAMP:20260406T000000
DTSTART;VALUE=DATE:20260406
SUMMARY:Ostermontag 
DESCRIPTION:jour férié officiel en Autriche | jours-feries.retira.eu. All data without guarantee! / Alle Angaben ohne Gewähr!
STATUS:CONFIRMED
END:VEVENT
BEGIN:VEVENT
UID:autriche--2026-15@jours-feries.retira.eu
DTSTAMP:20260501T000000
DTSTART;VALUE=DATE:20260501
SUMMARY:Staatsfeiertag 
DESCRIPTION:jour férié officiel en Autriche | jours-feries.retira.eu. All data without guarantee! / Alle Angaben ohne Gewähr!
STATUS:CONFIRMED
END:VEVENT
BEGIN:VEVENT
UID:autriche--2026-16@jours-feries.retira.eu
DTSTAMP:20260504T000000
DTSTART;VALUE=DATE:20260504
SUMMARY:Florian 
DESCRIPTION:jour férié régional | jours-feries.retira.eu. All data without guarantee! / Alle Angaben ohne Gewähr!
STATUS:CONFIRMED
END:VEVENT
BEGIN:VEVENT
UID:autriche--2026-18@jours-feries.retira.eu
DTSTAMP:20260514T000000
DTSTART;VALUE=DATE:20260514
SUMMARY:Christi Himmelfahrt 
DESCRIPTION:jour férié officiel en Autriche | jours-feries.retira.eu. All data without guarantee! / Alle Angaben ohne Gewähr!
STATUS:CONFIRMED
END:VEVENT
BEGIN:VEVENT
UID:autriche--2026-20@jours-feries.retira.eu
DTSTAMP:20260525T000000
DTSTART;VALUE=DATE:20260525
SUMMARY:Pfingstmontag 
DESCRIPTION:jour férié officiel en Autriche | jours-feries.retira.eu. All data without guarantee! / Alle Angaben ohne Gewähr!
STATUS:CONFIRMED
END:VEVENT
BEGIN:VEVENT
UID:autriche--2026-21@jours-feries.retira.eu
DTSTAMP:20260604T000000
DTSTART;VALUE=DATE:20260604
SUMMARY:Fronleichnam 
DESCRIPTION:jour férié officiel en Autriche | jours-feries.retira.eu. All data without guarantee! / Alle Angaben ohne Gewähr!
STATUS:CONFIRMED
END:VEVENT
BEGIN:VEVENT
UID:autriche--2026-24@jours-feries.retira.eu
DTSTAMP:20260815T000000
DTSTART;VALUE=DATE:20260815
SUMMARY:Mariä Himmelfahrt 
DESCRIPTION:jour férié officiel en Autriche | jours-feries.retira.eu. All data without guarantee! / Alle Angaben ohne Gewähr!
STATUS:CONFIRMED
END:VEVENT
BEGIN:VEVENT
UID:autriche--2026-26@jours-feries.retira.eu
DTSTAMP:20260924T000000
DTSTART;VALUE=DATE:20260924
SUMMARY:Rupert 
DESCRIPTION:jour férié régional | jours-feries.retira.eu. All data without guarantee! / Alle Angaben ohne Gewähr!
STATUS:CONFIRMED
END:VEVENT
BEGIN:VEVENT
UID:autriche--2026-27@jours-feries.retira.eu
DTSTAMP:20261010T000000
DTSTART;VALUE=DATE:20261010
SUMMARY:Tag der Volksabstimmung 
DESCRIPTION:jour férié régional | jours-feries.retira.eu. All data without guarantee! / Alle Angaben ohne Gewähr!
STATUS:CONFIRMED
END:VEVENT
BEGIN:VEVENT
UID:autriche--2026-29@jours-feries.retira.eu
DTSTAMP:20261026T000000
DTSTART;VALUE=DATE:20261026
SUMMARY:Nationalfeiertag 
DESCRIPTION:jour férié officiel en Autriche | jours-feries.retira.eu. All data without guarantee! / Alle Angaben ohne Gewähr!
STATUS:CONFIRMED
END:VEVENT
BEGIN:VEVENT
UID:autriche--2026-30@jours-feries.retira.eu
DTSTAMP:20261101T000000
DTSTART;VALUE=DATE:20261101
SUMMARY:Allerheiligen 
DESCRIPTION:jour férié officiel en Autriche | jours-feries.retira.eu. All data without guarantee! / Alle Angaben ohne Gewähr!
STATUS:CONFIRMED
END:VEVENT
BEGIN:VEVENT
UID:autriche--2026-31@jours-feries.retira.eu
DTSTAMP:20261111T000000
DTSTART;VALUE=DATE:20261111
SUMMARY:Martin 
DESCRIPTION:jour férié régional | jours-feries.retira.eu. All data without guarantee! / Alle Angaben ohne Gewähr!
STATUS:CONFIRMED
END:VEVENT
BEGIN:VEVENT
UID:autriche--2026-32@jours-feries.retira.eu
DTSTAMP:20261115T000000
DTSTART;VALUE=DATE:20261115
SUMMARY:Leopold 
DESCRIPTION:jour férié régional | jours-feries.retira.eu. All data without guarantee! / Alle Angaben ohne Gewähr!
STATUS:CONFIRMED
END:VEVENT
BEGIN:VEVENT
UID:autriche--2026-34@jours-feries.retira.eu
DTSTAMP:20261208T000000
DTSTART;VALUE=DATE:20261208
SUMMARY:Mariä Empfängnis 
DESCRIPTION:jour férié officiel en Autriche | jours-feries.retira.eu. All data without guarantee! / Alle Angaben ohne Gewähr!
STATUS:CONFIRMED
END:VEVENT
BEGIN:VEVENT
UID:autriche--2026-37@jours-feries.retira.eu
DTSTAMP:20261225T000000
DTSTART;VALUE=DATE:20261225
SUMMARY:Christtag 
DESCRIPTION:jour férié officiel en Autriche | jours-feries.retira.eu. All data without guarantee! / Alle Angaben ohne Gewähr!
STATUS:CONFIRMED
END:VEVENT
BEGIN:VEVENT
UID:autriche--2026-38@jours-feries.retira.eu
DTSTAMP:20261226T000000
DTSTART;VALUE=DATE:20261226
SUMMARY:Stefanitag 
DESCRIPTION:jour férié officiel en Autriche | jours-feries.retira.eu. All data without guarantee! / Alle Angaben ohne Gewähr!
STATUS:CONFIRMED
END:VEVENT
END:VCALENDAR